BEGIN:VCALENDAR
VERSION:2.0
PRODID:-//hacksw/handcal//NONSGML v1.0//EN
BEGIN:VEVENT
SUMMARY:Saint Gilles Mousses va a Sainte Pazanne
UID:68049dbd-e050-4afb-9723-58ad35f2ae89
DTSTART:20260219T080000Z
DTEND:20260219T160000Z
LOCATION:Localisation   
CATEGORIES:Sportif
STATUS:
URL;VALUE=URI:https://www.billardclubdelavie.com/evenements/2026/02/19/saint-gilles-mousses-va-a-sainte-pazanne-2419354
END:VEVENT
END:VCALENDAR
