BEGIN:VCALENDAR
VERSION:2.0
PRODID:-//hacksw/handcal//NONSGML v1.0//EN
BEGIN:VEVENT
SUMMARY:Resultats (presque definitifs ) du championnat categorie "veterans libre" Pays de Loire.
UID:aa57ea04-2548-471f-a6b0-b6632f360f0c
DTSTART:20260314T230000Z
DTEND:20260630T220000Z
LOCATION:Localisation   
CATEGORIES:Sportif
STATUS:
DESCRIPTION:<p>Pas de finale pour Saint Gilles cette annee, mais des
 places d'hinneur. Bravo a tous les joueurs (et
 joueuse).</p>
 
 <h4>Resultat Poule
 B</h4>
 
 <table>
 	<thead>
 		<tr>
 			<th>classt</th>
 			<th>Nom_equipe</th>
 			<th>pt
 rencontre</th>
 			<th>pts match</th>
 			<th>nb
 match</th>
 		</tr>
 	</thead>
 	<tbody>
 		<tr>
 			<td>1</td>
 			<td>CHOLET
 CHAUD LES
 BILLES</td>
 			<td>59</td>
 			<td>182</td>
 			<td>18</td>
 		</tr>
 		<tr>
 			<td>2</td>
 			<td>SAINT
 GILLES
 BABORD</td>
 			<td>49</td>
 			<td>158</td>
 			<td>19</td>
 		</tr>
 		<tr>
 			<td>3</td>
 			<td>LA
 BAULE
 CASINO</td>
 			<td>48</td>
 			<td>1154</td>
 			<td>21</td>
 		</tr>
 		<tr>
 			<td>4</td>
 			<td>CHALLANS
 BOCAGE</td>
 			<td>48</td>
 			<td>165</td>
 			<td>20</td>
 		</tr>
 		<tr>
 			<td>5</td>
 			<td>NANTES
 NBC
 ZOLA</td>
 			<td>47</td>
 			<td>159</td>
 			<td>17</td>
 		</tr>
 		<tr>
 			<td>6</td>
 			<td>REZE
 RETRO</td>
 			<td>42</td>
 			<td>140</td>
 			<td>18</td>
 		</tr>
 		<tr>
 			<td>7</td>
 			<td>LA
 CHAPELLE HEULIN
 COTEAUX</td>
 			<td>41</td>
 			<td>144</td>
 			<td>18</td>
 		</tr>
 		<tr>
 			<td>8</td>
 			<td>SAINT
 SEBASTIEN
 LOIRE</td>
 			<td>37</td>
 			<td>118</td>
 			<td>18</td>
 		</tr>
 		<tr>
 			<td>9</td>
 			<td>SAINTE
 PAZANNE LE
 TENU</td>
 			<td>34</td>
 			<td>125</td>
 			<td>18</td>
 		</tr>
 		<tr>
 			<td>10</td>
 			<td>BOUGUENAIS
 BELIANS</td>
 			<td>24</td>
 			<td>95</td>
 			<td>17</td>
 		</tr>
 	</tbody>
 </table>
 
 <p>Le
 mot du capitaine de l'equipe Babord:</p>
 
 <p>           Nous
 terminons en beaute  notre saison en deplacement a La Baule en
 gagnant par  10/6. Un grand bravo  a tous les joueurspour ce beau
 resultat qui nous permet de conserver notre deuxieme place pour
 l'instant! En effet,  Nantes Zola, deux points derriere nous
 a encore une rencontre ,en cas de victoire  nous serions
 troisieme. </p>
 
 <p>Attendons.........................et croisons
 les doigts.</p>
 
 <p>                 Je  termine en 
  felicitant tous les joeurs  pour leurs  bons resultats
 , presences disponibilite et convivialite et j'espere que nous nous
 retrouverons tous pour notre prochaine
 saison.</p>
 
 <p>Claude.</p>
 
 <h4>Resultat Poule
 C</h4>
 
 <table>
 	<thead>
 		<tr>
 			<th>classt</th>
 			<th>Nom_equipe</th>
 			<th>pt
 rencontre</th>
 			<th>pts match</th>
 			<th>nb
 match</th>
 		</tr>
 	</thead>
 	<tbody>
 		<tr>
 			<td>1</td>
 			<td>LA
 BAULE
 PLAGE</td>
 			<td>52</td>
 			<td>165</td>
 			<td>18</td>
 		</tr>
 		<tr>
 			<td>2</td>
 			<td>CHEMERE</td>
 			<td>50</td>
 			<td>156</td>
 			<td>17</td>
 		</tr>
 		<tr>
 			<td>3</td>
 			<td>LA
 MONTAGNE
 BAC</td>
 			<td>48</td>
 			<td>149</td>
 			<td>18</td>
 		</tr>
 		<tr>
 			<td>4</td>
 			<td>LA
 BERNERIE</td>
 			<td>44</td>
 			<td>142</td>
 			<td>18</td>
 		</tr>
 		<tr>
 			<td>5</td>
 			<td>SAINT
 BREVIN</td>
 			<td>41</td>
 			<td>145</td>
 			<td>17</td>
 		</tr>
 		<tr>
 			<td>6</td>
 			<td>LA
 MONTAGNE
 TRANSFO</td>
 			<td>41</td>
 			<td>141</td>
 			<td>18</td>
 		</tr>
 		<tr>
 			<td>7</td>
 			<td>LES
 SABLES
 MER</td>
 			<td>41</td>
 			<td>133</td>
 			<td>17</td>
 		</tr>
 		<tr>
 			<td>8</td>
 			<td>SAINT
 GILLES
 MOUSSE</td>
 			<td>39</td>
 			<td>137</td>
 			<td>18</td>
 		</tr>
 		<tr>
 			<td>9</td>
 			<td>CHATEAU
 THEBAUD
 VIGNOBLE</td>
 			<td>39</td>
 			<td>132</td>
 			<td>17</td>
 		</tr>
 		<tr>
 			<td>10</td>
 			<td>SAINTE
 PAZANNE LES
 FRAICHES</td>
 			<td>25</td>
 			<td>108</td>
 			<td>18</td>
 		</tr>
 	</tbody>
 </table>
 
 <p> </p>
 
 <h4>Resultat
 Poule
 D</h4>
 
 <table>
 	<thead>
 		<tr>
 			<th>classt</th>
 			<th>Nom_equipe</th>
 			<th>pt
 rencontre</th>
 			<th>pts match</th>
 			<th>nb
 match</th>
 		</tr>
 	</thead>
 	<tbody>
 		<tr>
 			<td>1</td>
 			<td>SAINTE
 PAZANNE LA
 GARE</td>
 			<td>51</td>
 			<td>151</td>
 			<td>16</td>
 		</tr>
 		<tr>
 			<td>2</td>
 			<td>CHALLANS
 MARAIS</td>
 			<td>42</td>
 			<td>155</td>
 			<td>16</td>
 		</tr>
 		<tr>
 			<td>3</td>
 			<td>LES
 SABLES
 FORET</td>
 			<td>41</td>
 			<td>132</td>
 			<td>15</td>
 		</tr>
 		<tr>
 			<td>4</td>
 			<td>LA
 ROCHE SUR YON
 MONTREAL</td>
 			<td>38</td>
 			<td>131</td>
 			<td>16</td>
 		</tr>
 		<tr>
 			<td>5</td>
 			<td>CHATEAU
 THEBAUD PORTE
 VUE</td>
 			<td>37</td>
 			<td>110</td>
 			<td>16</td>
 		</tr>
 		<tr>
 			<td>6</td>
 			<td>MONTAIGU
 DIGUE</td>
 			<td>34</td>
 			<td>127</td>
 			<td>16</td>
 		</tr>
 		<tr>
 			<td>7</td>
 			<td>SAINT
 GILLES
 TRIBORD</td>
 			<td>34</td>
 			<td>120</td>
 			<td>16</td>
 		</tr>
 		<tr>
 			<td>8</td>
 			<td>LES
 ESSARTS</td>
 			<td>33</td>
 			<td>120</td>
 			<td>16</td>
 		</tr>
 		<tr>
 			<td>9</td>
 			<td>LES
 SABLES
 DUNES</td>
 			<td>26</td>
 			<td>90</td>
 			<td>15</td>
 		</tr>
 	</tbody>
 </table>
 
 <p> </p>
URL;VALUE=URI:https://www.billardclubdelavie.com/evenements/2026/03/15/resultats-presque-definitifs-du-championnat-categorie-veterans-libre-pays-de-loire-2429436
END:VEVENT
END:VCALENDAR
